BEGIN:VCALENDAR
VERSION:2.0
PRODID:-//De lector a lector - ECPv6.15.15//NONSGML v1.0//EN
CALSCALE:GREGORIAN
METHOD:PUBLISH
X-ORIGINAL-URL:https://www.delectoralector.com
X-WR-CALDESC:Eventos para De lector a lector
REFRESH-INTERVAL;VALUE=DURATION:PT1H
X-Robots-Tag:noindex
X-PUBLISHED-TTL:PT1H
BEGIN:VTIMEZONE
TZID:Europe/Madrid
BEGIN:DAYLIGHT
TZOFFSETFROM:+0100
TZOFFSETTO:+0200
TZNAME:CEST
DTSTART:20230326T010000
END:DAYLIGHT
BEGIN:STANDARD
TZOFFSETFROM:+0200
TZOFFSETTO:+0100
TZNAME:CET
DTSTART:20231029T010000
END:STANDARD
BEGIN:DAYLIGHT
TZOFFSETFROM:+0100
TZOFFSETTO:+0200
TZNAME:CEST
DTSTART:20240331T010000
END:DAYLIGHT
BEGIN:STANDARD
TZOFFSETFROM:+0200
TZOFFSETTO:+0100
TZNAME:CET
DTSTART:20241027T010000
END:STANDARD
BEGIN:DAYLIGHT
TZOFFSETFROM:+0100
TZOFFSETTO:+0200
TZNAME:CEST
DTSTART:20250330T010000
END:DAYLIGHT
BEGIN:STANDARD
TZOFFSETFROM:+0200
TZOFFSETTO:+0100
TZNAME:CET
DTSTART:20251026T010000
END:STANDARD
END:VTIMEZONE
BEGIN:VEVENT
DTSTART;TZID=Europe/Madrid:20240603T000000
DTEND;TZID=Europe/Madrid:20240603T000000
DTSTAMP:20260419T160442
CREATED:20240526T114833Z
LAST-MODIFIED:20240526T114833Z
UID:45173-1717372800-1717372800@www.delectoralector.com
SUMMARY:Benito Olmo presenta Tinta y fuego - Jerez
DESCRIPTION:
URL:https://www.delectoralector.com/evento/benito-olmo-presenta-tinta-y-fuego-jerez/
LOCATION:Granada
END:VEVENT
BEGIN:VEVENT
DTSTART;TZID=Europe/Madrid:20240604T190000
DTEND;TZID=Europe/Madrid:20240604T203000
DTSTAMP:20260419T160442
CREATED:20240525T151850Z
LAST-MODIFIED:20240525T151850Z
UID:45114-1717527600-1717533000@www.delectoralector.com
SUMMARY:Cristina Rivera Garza presenta El invencible verano de Liliana - Barcelona
DESCRIPTION:
URL:https://www.delectoralector.com/evento/cristina-rivera-garza-presenta-el-invencible-verano-de-liliana-barcelona/
LOCATION:Casa d’America de Catalunya\, Corsèga 299\, Barcelona
END:VEVENT
BEGIN:VEVENT
DTSTART;TZID=Europe/Madrid:20240604T193000
DTEND;TZID=Europe/Madrid:20240604T213000
DTSTAMP:20260419T160442
CREATED:20240602T215348Z
LAST-MODIFIED:20240602T215348Z
UID:45557-1717529400-1717536600@www.delectoralector.com
SUMMARY:Pedro Vivar presenta El arte de la coherencia
DESCRIPTION:
URL:https://www.delectoralector.com/evento/pedro-vivar-presenta-el-arte-de-la-coherencia/
LOCATION:FNAC L’Illa\, Diagonal 477\, Barcelona\, Barcelona\, Spain
END:VEVENT
BEGIN:VEVENT
DTSTART;TZID=Europe/Madrid:20240605T000000
DTEND;TZID=Europe/Madrid:20240605T000000
DTSTAMP:20260419T160442
CREATED:20240526T115848Z
LAST-MODIFIED:20240526T115848Z
UID:45197-1717545600-1717545600@www.delectoralector.com
SUMMARY:Reyes Monforte firma La condesa Maldita - Feria del libro de Valladolid
DESCRIPTION:
URL:https://www.delectoralector.com/evento/reyes-monforte-firma-la-condesa-maldita-feria-del-libro-de-valladolid/
LOCATION:Granada
END:VEVENT
BEGIN:VEVENT
DTSTART;TZID=Europe/Madrid:20240605T183000
DTEND;TZID=Europe/Madrid:20240605T200000
DTSTAMP:20260419T160442
CREATED:20240605T211526Z
LAST-MODIFIED:20240605T211526Z
UID:45636-1717612200-1717617600@www.delectoralector.com
SUMMARY:Luis López Murria presenta Educar en llamas - Barcelona
DESCRIPTION:
URL:https://www.delectoralector.com/evento/luis-lopez-murria-presenta-educar-en-llamas-barcelona/
LOCATION:Librería Alibri\, Calle Balmes 26\, Barcelona\, Barcelona\, España
END:VEVENT
BEGIN:VEVENT
DTSTART;TZID=Europe/Madrid:20240605T190000
DTEND;TZID=Europe/Madrid:20240605T210000
DTSTAMP:20260419T160442
CREATED:20240605T164849Z
LAST-MODIFIED:20240605T164849Z
UID:45631-1717614000-1717621200@www.delectoralector.com
SUMMARY:Ricardo González Corpancho presenta El mensaje del cisne negro - Barcelona
DESCRIPTION:
URL:https://www.delectoralector.com/evento/ricardo-gonzalez-corpancho-presenta-el-mensaje-del-cisne-negro-barcelona/
LOCATION:FNAC L’Illa\, Diagonal 477\, Barcelona\, Barcelona\, Spain
END:VEVENT
BEGIN:VEVENT
DTSTART;TZID=Europe/Madrid:20240605T200000
DTEND;TZID=Europe/Madrid:20240605T213000
DTSTAMP:20260419T160442
CREATED:20240527T162608Z
LAST-MODIFIED:20240527T162608Z
UID:45269-1717617600-1717623000@www.delectoralector.com
SUMMARY:Lorenzo Silva presenta La innombrable - Alcalá la Real
DESCRIPTION:
URL:https://www.delectoralector.com/evento/lorenzo-silva-presenta-la-innombrable-alcala-la-real/
LOCATION:Antiguo Convento de Capuchinos\, Alcalá la Real\, Jaén
END:VEVENT
BEGIN:VEVENT
DTSTART;TZID=Europe/Madrid:20240606T000000
DTEND;TZID=Europe/Madrid:20240606T000000
DTSTAMP:20260419T160442
CREATED:20240426T204348Z
LAST-MODIFIED:20240426T204348Z
UID:43323-1717632000-1717632000@www.delectoralector.com
SUMMARY:Javier Castillo gira La grieta del silencio - Córdoba
DESCRIPTION:
URL:https://www.delectoralector.com/evento/javier-castillo-gira-la-grieta-del-silencio-cordoba/
LOCATION:Granada
END:VEVENT
BEGIN:VEVENT
DTSTART;TZID=Europe/Madrid:20240606T000000
DTEND;TZID=Europe/Madrid:20240606T000000
DTSTAMP:20260419T160442
CREATED:20240526T115054Z
LAST-MODIFIED:20240526T115054Z
UID:45179-1717632000-1717632000@www.delectoralector.com
SUMMARY:Javier Castillo presenta La grieta del silencio - Córdoba
DESCRIPTION:
URL:https://www.delectoralector.com/evento/javier-castillo-presenta-la-grieta-del-silencio-cordoba/
LOCATION:Granada
END:VEVENT
BEGIN:VEVENT
DTSTART;TZID=Europe/Madrid:20240606T000000
DTEND;TZID=Europe/Madrid:20240606T000000
DTSTAMP:20260419T160442
CREATED:20240526T115356Z
LAST-MODIFIED:20240526T115356Z
UID:45188-1717632000-1717632000@www.delectoralector.com
SUMMARY:Inma Rubiales firma Todos los lugares que mantuvimos en secreto - Mallorca
DESCRIPTION:
URL:https://www.delectoralector.com/evento/inma-rubiales-firma-todos-los-lugares-que-mantuvimos-en-secreto-mallorca/
LOCATION:Granada
END:VEVENT
BEGIN:VEVENT
DTSTART;TZID=Europe/Madrid:20240606T190000
DTEND;TZID=Europe/Madrid:20240606T203000
DTSTAMP:20260419T160442
CREATED:20240530T154452Z
LAST-MODIFIED:20240530T154452Z
UID:45457-1717700400-1717705800@www.delectoralector.com
SUMMARY:Juan Manuel Gil presenta Un hombre bajo el agua - Almería
DESCRIPTION:
URL:https://www.delectoralector.com/evento/juan-manuel-gil-presenta-un-hombre-bajo-el-agua-almeria/
LOCATION:Librería Picasso – Almería\, Reyes Católicos 18\, Almería
END:VEVENT
BEGIN:VEVENT
DTSTART;TZID=Europe/Madrid:20240606T190000
DTEND;TZID=Europe/Madrid:20240606T210000
DTSTAMP:20260419T160442
CREATED:20240527T155027Z
LAST-MODIFIED:20240527T155027Z
UID:45263-1717700400-1717707600@www.delectoralector.com
SUMMARY:Manuel Marlasca presenta Tú bailas y yo disparo - Sevilla
DESCRIPTION:
URL:https://www.delectoralector.com/evento/manuel-marlasca-presenta-tu-bailas-y-yo-disparo-sevilla/
LOCATION:Librería La Botica de Lectores\, Avda. República Argentina\, 15\, Sevilla\, Sevilla\, España
END:VEVENT
BEGIN:VEVENT
DTSTART;TZID=Europe/Madrid:20240606T190000
DTEND;TZID=Europe/Madrid:20240606T210000
DTSTAMP:20260419T160442
CREATED:20240602T215533Z
LAST-MODIFIED:20240602T215533Z
UID:45559-1717700400-1717707600@www.delectoralector.com
SUMMARY:Marta Pérez-Carbonell presenta Nada más ilusorio
DESCRIPTION:
URL:https://www.delectoralector.com/evento/marta-perez-carbonell-presenta-nada-mas-ilusorio/
LOCATION:Amapolas librería\, C. de Pelayo\, 60\, Madrid\, Madrid
END:VEVENT
BEGIN:VEVENT
DTSTART;TZID=Europe/Madrid:20240606T190000
DTEND;TZID=Europe/Madrid:20240606T210000
DTSTAMP:20260419T160442
CREATED:20240606T154911Z
LAST-MODIFIED:20240606T154911Z
UID:45671-1717700400-1717707600@www.delectoralector.com
SUMMARY:Arturo González-Campos presenta Cine con cosas - Barcelona
DESCRIPTION:
URL:https://www.delectoralector.com/evento/arturo-gonzalez-campos-presenta-cine-con-cosas-barcelona/
LOCATION:Librería Hispano Americana\, Gran Vía de les Corts Catalanes 594\, Barcelona
END:VEVENT
BEGIN:VEVENT
DTSTART;TZID=Europe/Madrid:20240606T190000
DTEND;TZID=Europe/Madrid:20240606T210000
DTSTAMP:20260419T160442
CREATED:20240606T162158Z
LAST-MODIFIED:20240606T162158Z
UID:45680-1717700400-1717707600@www.delectoralector.com
SUMMARY:Santiago Díaz presenta Los nueve reinos - Albacete
DESCRIPTION:
URL:https://www.delectoralector.com/evento/santiago-diaz-presenta-los-nueve-reinos-albacete/
LOCATION:Popular Libros\, Octavio Cuartero 17\, Albacete
END:VEVENT
BEGIN:VEVENT
DTSTART;TZID=Europe/Madrid:20240607T000000
DTEND;TZID=Europe/Madrid:20240607T000000
DTSTAMP:20260419T160442
CREATED:20240407T120244Z
LAST-MODIFIED:20240407T120355Z
UID:42587-1717718400-1717718400@www.delectoralector.com
SUMMARY:Blue Jeans firma Una influencer muerta en París - Avila
DESCRIPTION:
URL:https://www.delectoralector.com/evento/blue-jeans-presenta-una-influencer-muerta-en-paris-avila/
LOCATION:Granada
END:VEVENT
BEGIN:VEVENT
DTSTART;TZID=Europe/Madrid:20240607T000000
DTEND;TZID=Europe/Madrid:20240607T000000
DTSTAMP:20260419T160442
CREATED:20240526T115646Z
LAST-MODIFIED:20240526T115646Z
UID:45193-1717718400-1717718400@www.delectoralector.com
SUMMARY:Carla Motero presenta El viñedo de la luna - Peñafiel
DESCRIPTION:
URL:https://www.delectoralector.com/evento/carla-motero-presenta-el-vinedo-de-la-luna-penafiel/
LOCATION:Granada
END:VEVENT
BEGIN:VEVENT
DTSTART;TZID=Europe/Madrid:20240607T170000
DTEND;TZID=Europe/Madrid:20240607T200000
DTSTAMP:20260419T160442
CREATED:20240606T161943Z
LAST-MODIFIED:20240606T161943Z
UID:45677-1717779600-1717790400@www.delectoralector.com
SUMMARY:Yolanda Guerrero firma Los días ligeros
DESCRIPTION:
URL:https://www.delectoralector.com/evento/yolanda-guerrero-firma-los-dias-ligeros/
LOCATION:Librería La pluma\, Camino del Padre Cura 8\, Estepona\, Málaga
END:VEVENT
BEGIN:VEVENT
DTSTART;TZID=Europe/Madrid:20240607T180000
DTEND;TZID=Europe/Madrid:20240607T190000
DTSTAMP:20260419T160442
CREATED:20240526T114450Z
LAST-MODIFIED:20240526T114450Z
UID:45163-1717783200-1717786800@www.delectoralector.com
SUMMARY:María Oruña. Encuentro en la Feria del Libro de Valladolid
DESCRIPTION:
URL:https://www.delectoralector.com/evento/maria-oruna-encuentro-en-la-feria-del-libro-de-valladolid/
LOCATION:Círculo de Recreo\, Valladolid
END:VEVENT
BEGIN:VEVENT
DTSTART;TZID=Europe/Madrid:20240607T180000
DTEND;TZID=Europe/Madrid:20240607T200000
DTSTAMP:20260419T160442
CREATED:20240606T161650Z
LAST-MODIFIED:20240606T161650Z
UID:45674-1717783200-1717790400@www.delectoralector.com
SUMMARY:Blue Jeans firma Una influencer muerta en París - Ávila
DESCRIPTION:
URL:https://www.delectoralector.com/evento/blue-jeans-firma-una-influencer-muerta-en-paris-avila/
LOCATION:Librería letras\, P.º San Roque\, 4\,\, Ávila
END:VEVENT
BEGIN:VEVENT
DTSTART;TZID=Europe/Madrid:20240607T190000
DTEND;TZID=Europe/Madrid:20240607T210000
DTSTAMP:20260419T160442
CREATED:20240526T114616Z
LAST-MODIFIED:20240526T114616Z
UID:45166-1717786800-1717794000@www.delectoralector.com
SUMMARY:María Oruña. Firma en la Feria del Libro de Valladolid
DESCRIPTION:
URL:https://www.delectoralector.com/evento/maria-oruna-firma-en-la-feria-del-libro-de-valladolid/
LOCATION:Caseta firmas Plaza Mayor\, Valladolid
END:VEVENT
BEGIN:VEVENT
DTSTART;TZID=Europe/Madrid:20240607T193000
DTEND;TZID=Europe/Madrid:20240607T213000
DTSTAMP:20260419T160442
CREATED:20240514T145927Z
LAST-MODIFIED:20240514T150010Z
UID:44470-1717788600-1717795800@www.delectoralector.com
SUMMARY:Carla Montero presenta El Viñedo de la Luna - Peñafiel
DESCRIPTION:
URL:https://www.delectoralector.com/evento/carla-montero-presenta-el-vinedo-de-la-luna-2/
LOCATION:Azz Hoteles Convento Las Claras\, Pl. de Adolfo Muñoz Alonso\, 1\, Peñafiel\, Valladolid
END:VEVENT
BEGIN:VEVENT
DTSTART;TZID=Europe/Madrid:20240608T000000
DTEND;TZID=Europe/Madrid:20240608T000000
DTSTAMP:20260419T160442
CREATED:20240526T115446Z
LAST-MODIFIED:20240526T115446Z
UID:45191-1717804800-1717804800@www.delectoralector.com
SUMMARY:Inma Rubiales firma Todos los lugares que mantuvimos en secreto - Valladolid
DESCRIPTION:
URL:https://www.delectoralector.com/evento/inma-rubiales-firma-todos-los-lugares-que-mantuvimos-en-secreto-valladolid/
LOCATION:Granada
END:VEVENT
BEGIN:VEVENT
DTSTART;TZID=Europe/Madrid:20240611T190000
DTEND;TZID=Europe/Madrid:20240611T210000
DTSTAMP:20260419T160442
CREATED:20240606T215137Z
LAST-MODIFIED:20240606T215137Z
UID:45712-1718132400-1718139600@www.delectoralector.com
SUMMARY:Alex Michaelides presenta La furia
DESCRIPTION:
URL:https://www.delectoralector.com/evento/alex-michaelides-presenta-la-furia/
LOCATION:La Central del Raval\, Carrer d'Elisabets 6\, Barcelona
END:VEVENT
BEGIN:VEVENT
DTSTART;TZID=Europe/Madrid:20240611T190000
DTEND;TZID=Europe/Madrid:20240611T210000
DTSTAMP:20260419T160442
CREATED:20240611T203924Z
LAST-MODIFIED:20240611T203924Z
UID:45812-1718132400-1718139600@www.delectoralector.com
SUMMARY:Santiago Díaz presenta Nueve Reinos - El Sauzal
DESCRIPTION:
URL:https://www.delectoralector.com/evento/santiago-diaz-presenta-nueve-reinos-el-sauzal/
LOCATION:Centro Cultural El Sauzal\, Manuel Nepomuceno 12\, El Sauzal\, Tenerife
END:VEVENT
BEGIN:VEVENT
DTSTART;TZID=Europe/Madrid:20240612T190000
DTEND;TZID=Europe/Madrid:20240612T203000
DTSTAMP:20260419T160442
CREATED:20240606T212525Z
LAST-MODIFIED:20240606T212525Z
UID:45704-1718218800-1718224200@www.delectoralector.com
SUMMARY:Rafa Cervera presenta The Velvet Underground - Barcelona
DESCRIPTION:
URL:https://www.delectoralector.com/evento/rafa-cervera-presenta-the-velvet-underground-barcelona/
LOCATION:Librería Calders\, Passatge de Pere Calders\, 9\, Barcelona
END:VEVENT
BEGIN:VEVENT
DTSTART;TZID=Europe/Madrid:20240612T190000
DTEND;TZID=Europe/Madrid:20240612T210000
DTSTAMP:20260419T160442
CREATED:20240610T104631Z
LAST-MODIFIED:20240610T104631Z
UID:45773-1718218800-1718226000@www.delectoralector.com
SUMMARY:Rafa Cervera presenta  The Velvet Underground\, etc
DESCRIPTION:
URL:https://www.delectoralector.com/evento/rafa-cervera-presenta-the-velvet-underground-etc-2/
LOCATION:Librería Calders\, Passatge de Pere Calders\, 9\, Barcelona
END:VEVENT
BEGIN:VEVENT
DTSTART;TZID=Europe/Madrid:20240612T190000
DTEND;TZID=Europe/Madrid:20240612T210000
DTSTAMP:20260419T160442
CREATED:20240611T203628Z
LAST-MODIFIED:20240611T203628Z
UID:45810-1718218800-1718226000@www.delectoralector.com
SUMMARY:Alejandra G. Remón presenta Mudanza - Madrid
DESCRIPTION:
URL:https://www.delectoralector.com/evento/alejandra-g-remon-presenta-mudanza-madrid/
LOCATION:Librería La Mistral\, Tr.ª del Arenal\, 2\, Madrid\, Madrid\, Spain
END:VEVENT
BEGIN:VEVENT
DTSTART;TZID=Europe/Madrid:20240612T203000
DTEND;TZID=Europe/Madrid:20240612T213000
DTSTAMP:20260419T160442
CREATED:20240605T212431Z
LAST-MODIFIED:20240605T212431Z
UID:45638-1718224200-1718227800@www.delectoralector.com
SUMMARY:Pilar Muñoz presenta Entre hilos de silencio - Pozoblanco
DESCRIPTION:
URL:https://www.delectoralector.com/evento/pilar-munoz-presenta-entre-hilos-de-silencio-pozoblanco/
LOCATION:Biblioteca Municipal de Pozoblanco\, C. Pío Baroja\, 22\, Pozoblanco\, Córdoba
END:VEVENT
BEGIN:VEVENT
DTSTART;TZID=Europe/Madrid:20240613T190000
DTEND;TZID=Europe/Madrid:20240613T203000
DTSTAMP:20260419T160442
CREATED:20240609T214012Z
LAST-MODIFIED:20240609T214012Z
UID:45752-1718305200-1718310600@www.delectoralector.com
SUMMARY:Rita Indiana presenta Asmodeo - Madrid
DESCRIPTION:
URL:https://www.delectoralector.com/evento/rita-indiana-presenta-asmodeo-madrid/
LOCATION:Espacio Fundación Telefónica\, Fuencarral 3\, Madrid\, Madrid\, Spain
END:VEVENT
END:VCALENDAR