BEGIN:VCALENDAR
VERSION:2.0
PRODID:-//De lector a lector - ECPv6.15.15//NONSGML v1.0//EN
CALSCALE:GREGORIAN
METHOD:PUBLISH
X-WR-CALNAME:De lector a lector
X-ORIGINAL-URL:https://www.delectoralector.com
X-WR-CALDESC:Eventos para De lector a lector
REFRESH-INTERVAL;VALUE=DURATION:PT1H
X-Robots-Tag:noindex
X-PUBLISHED-TTL:PT1H
BEGIN:VTIMEZONE
TZID:Europe/Madrid
BEGIN:DAYLIGHT
TZOFFSETFROM:+0100
TZOFFSETTO:+0200
TZNAME:CEST
DTSTART:20230326T010000
END:DAYLIGHT
BEGIN:STANDARD
TZOFFSETFROM:+0200
TZOFFSETTO:+0100
TZNAME:CET
DTSTART:20231029T010000
END:STANDARD
BEGIN:DAYLIGHT
TZOFFSETFROM:+0100
TZOFFSETTO:+0200
TZNAME:CEST
DTSTART:20240331T010000
END:DAYLIGHT
BEGIN:STANDARD
TZOFFSETFROM:+0200
TZOFFSETTO:+0100
TZNAME:CET
DTSTART:20241027T010000
END:STANDARD
BEGIN:DAYLIGHT
TZOFFSETFROM:+0100
TZOFFSETTO:+0200
TZNAME:CEST
DTSTART:20250330T010000
END:DAYLIGHT
BEGIN:STANDARD
TZOFFSETFROM:+0200
TZOFFSETTO:+0100
TZNAME:CET
DTSTART:20251026T010000
END:STANDARD
END:VTIMEZONE
BEGIN:VEVENT
DTSTART;TZID=Europe/Madrid:20240625T190000
DTEND;TZID=Europe/Madrid:20240625T210000
DTSTAMP:20260419T205603
CREATED:20240620T220205Z
LAST-MODIFIED:20240620T220205Z
UID:46006-1719342000-1719349200@www.delectoralector.com
SUMMARY:Bárbara Montes presenta Tenemos que hablar - Ávila
DESCRIPTION:
URL:https://www.delectoralector.com/evento/barbara-montes-presenta-tenemos-que-hablar-avila/
LOCATION:Librería letras\, P.º San Roque\, 4\,\, Ávila
END:VEVENT
BEGIN:VEVENT
DTSTART;TZID=Europe/Madrid:20240626T000000
DTEND;TZID=Europe/Madrid:20240626T000000
DTSTAMP:20260419T205603
CREATED:20240526T115209Z
LAST-MODIFIED:20240526T115209Z
UID:45184-1719360000-1719360000@www.delectoralector.com
SUMMARY:Javier Castillo presenta La grieta del silencio - Valencia
DESCRIPTION:
URL:https://www.delectoralector.com/evento/javier-castillo-presenta-la-grieta-del-silencio-valencia/
LOCATION:Granada
END:VEVENT
BEGIN:VEVENT
DTSTART;TZID=Europe/Madrid:20240626T190000
DTEND;TZID=Europe/Madrid:20240626T210000
DTSTAMP:20260419T205603
CREATED:20240620T224636Z
LAST-MODIFIED:20240620T224636Z
UID:46019-1719428400-1719435600@www.delectoralector.com
SUMMARY:José Carlos Llop presenta Si una mañana de verano\, un viajero - Madrid
DESCRIPTION:
URL:https://www.delectoralector.com/evento/jose-carlos-llop-presenta-si-una-manana-de-verano-un-viajero-madrid/
LOCATION:Librería Alberti
END:VEVENT
BEGIN:VEVENT
DTSTART;TZID=Europe/Madrid:20240626T190000
DTEND;TZID=Europe/Madrid:20240626T210000
DTSTAMP:20260419T205603
CREATED:20240620T224806Z
LAST-MODIFIED:20240620T224806Z
UID:46021-1719428400-1719435600@www.delectoralector.com
SUMMARY:Rafael Gumucio presenta Los parientes pobre - Barcelona
DESCRIPTION:
URL:https://www.delectoralector.com/evento/rafael-gumucio-presenta-los-parientes-pobre-barcelona/
LOCATION:La Lata Peinada\, Calle de Apodaca\, 6\, Madrid\, Madrid\, Spain
END:VEVENT
BEGIN:VEVENT
DTSTART;TZID=Europe/Madrid:20240627T000000
DTEND;TZID=Europe/Madrid:20240627T000000
DTSTAMP:20260419T205603
CREATED:20240426T204504Z
LAST-MODIFIED:20240426T204504Z
UID:43327-1719446400-1719446400@www.delectoralector.com
SUMMARY:Javier Castillo gira La grieta del silencio - Valencia
DESCRIPTION:
URL:https://www.delectoralector.com/evento/javier-castillo-gira-la-grieta-del-silencio-valencia/
LOCATION:Granada
END:VEVENT
BEGIN:VEVENT
DTSTART;TZID=Europe/Madrid:20240627T190000
DTEND;TZID=Europe/Madrid:20240627T210000
DTSTAMP:20260419T205603
CREATED:20240610T110508Z
LAST-MODIFIED:20240610T110508Z
UID:45779-1719514800-1719522000@www.delectoralector.com
SUMMARY:Karina Pacheco presenta El año del viento - Madrid
DESCRIPTION:
URL:https://www.delectoralector.com/evento/karina-pacheco-presenta-el-ano-del-viento-madrid/
LOCATION:Casa de América\, Plaza de Cibeles s/n\, Madrid
END:VEVENT
BEGIN:VEVENT
DTSTART;TZID=Europe/Madrid:20240627T190000
DTEND;TZID=Europe/Madrid:20240627T210000
DTSTAMP:20260419T205603
CREATED:20240617T104055Z
LAST-MODIFIED:20240617T104055Z
UID:45936-1719514800-1719522000@www.delectoralector.com
SUMMARY:Karina Pacheco presenta El año del viento - Madrid
DESCRIPTION:
URL:https://www.delectoralector.com/evento/karina-pacheco-presenta-el-ano-del-viento-madrid-2/
LOCATION:Casa de América\, Plaza de Cibeles s/n\, Madrid
END:VEVENT
BEGIN:VEVENT
DTSTART;TZID=Europe/Madrid:20240627T190000
DTEND;TZID=Europe/Madrid:20240627T210000
DTSTAMP:20260419T205603
CREATED:20240620T220257Z
LAST-MODIFIED:20240620T220257Z
UID:46008-1719514800-1719522000@www.delectoralector.com
SUMMARY:Bárbara Montes presenta Tenemos que hablar - Madrid
DESCRIPTION:
URL:https://www.delectoralector.com/evento/barbara-montes-presenta-tenemos-que-hablar-madrid/
LOCATION:Librería sin tarima\, Calle Magdalena 32\, MADRID\, Madrid\, Spain
END:VEVENT
BEGIN:VEVENT
DTSTART;TZID=Europe/Madrid:20240628T000000
DTEND;TZID=Europe/Madrid:20240628T000000
DTSTAMP:20260419T205603
CREATED:20240407T120709Z
LAST-MODIFIED:20240407T120709Z
UID:42601-1719532800-1719532800@www.delectoralector.com
SUMMARY:Blue Jeans firma Una influencer muerta en París - Vigo
DESCRIPTION:
URL:https://www.delectoralector.com/evento/blue-jeans-firma-una-influencer-muerta-en-paris-vigo/
LOCATION:Granada
END:VEVENT
BEGIN:VEVENT
DTSTART;TZID=Europe/Madrid:20240628T000000
DTEND;TZID=Europe/Madrid:20240628T000000
DTSTAMP:20260419T205603
CREATED:20240426T204540Z
LAST-MODIFIED:20240426T204540Z
UID:43329-1719532800-1719532800@www.delectoralector.com
SUMMARY:Javier Castillo gira La grieta del silencio - Murcia
DESCRIPTION:
URL:https://www.delectoralector.com/evento/javier-castillo-gira-la-grieta-del-silencio-murcia/
LOCATION:Granada
END:VEVENT
BEGIN:VEVENT
DTSTART;TZID=Europe/Madrid:20240628T000000
DTEND;TZID=Europe/Madrid:20240628T000000
DTSTAMP:20260419T205603
CREATED:20240526T115247Z
LAST-MODIFIED:20240526T115247Z
UID:45186-1719532800-1719532800@www.delectoralector.com
SUMMARY:Javier Castillo presenta La grieta del silencio - Murcia
DESCRIPTION:
URL:https://www.delectoralector.com/evento/javier-castillo-presenta-la-grieta-del-silencio-murcia/
LOCATION:Granada
END:VEVENT
BEGIN:VEVENT
DTSTART;TZID=Europe/Madrid:20240629T000000
DTEND;TZID=Europe/Madrid:20240629T000000
DTSTAMP:20260419T205603
CREATED:20240407T120739Z
LAST-MODIFIED:20240407T120739Z
UID:42603-1719619200-1719619200@www.delectoralector.com
SUMMARY:Blue Jeans firma Una influencer muerta en París - Orense
DESCRIPTION:
URL:https://www.delectoralector.com/evento/blue-jeans-firma-una-influencer-muerta-en-paris-orense/
LOCATION:Granada
END:VEVENT
BEGIN:VEVENT
DTSTART;TZID=Europe/Madrid:20240704T190000
DTEND;TZID=Europe/Madrid:20240704T203000
DTSTAMP:20260419T205603
CREATED:20240701T083845Z
LAST-MODIFIED:20240701T083855Z
UID:46086-1720119600-1720125000@www.delectoralector.com
SUMMARY:Bárbara Montes presenta Tenemos que hablar - Logroño
DESCRIPTION:
URL:https://www.delectoralector.com/evento/barbara-montes-presenta-tenemos-que-hablar-logrono/
LOCATION:Librería Santos Ochoa Logroño\, Calvo Sotelo 19\, Logroño\, Logroño
END:VEVENT
BEGIN:VEVENT
DTSTART;TZID=Europe/Madrid:20240705T183000
DTEND;TZID=Europe/Madrid:20240705T200000
DTSTAMP:20260419T205603
CREATED:20240701T202727Z
LAST-MODIFIED:20240701T202727Z
UID:46091-1720204200-1720209600@www.delectoralector.com
SUMMARY:Joaquín Camps firma La oscuridad que habita en mi - Gandía
DESCRIPTION:
URL:https://www.delectoralector.com/evento/joaquin-camps-firma-la-oscuridad-que-habita-en-mi-gandia/
LOCATION:Ambra Llibres\, Avda. Alicante 12\, Gandía\, Valencia
END:VEVENT
BEGIN:VEVENT
DTSTART;TZID=Europe/Madrid:20240705T190000
DTEND;TZID=Europe/Madrid:20240705T210000
DTSTAMP:20260419T205603
CREATED:20240701T084119Z
LAST-MODIFIED:20240701T084119Z
UID:46088-1720206000-1720213200@www.delectoralector.com
SUMMARY:Bárbara Montes presenta Tenemos que hablar - Colmenar de Oreja
DESCRIPTION:
URL:https://www.delectoralector.com/evento/barbara-montes-presenta-tenemos-que-hablar-colmenar-de-oreja/
LOCATION:Biblioteca Pública Padre Rojas\, Plazuela de Palacio\, Colmenar de Oreja\, Madrid
END:VEVENT
BEGIN:VEVENT
DTSTART;TZID=Europe/Madrid:20240710T190000
DTEND;TZID=Europe/Madrid:20240710T210000
DTSTAMP:20260419T205603
CREATED:20240704T224139Z
LAST-MODIFIED:20240704T224146Z
UID:46161-1720638000-1720645200@www.delectoralector.com
SUMMARY:Laura Fernández presenta Un monstruo en el lago
DESCRIPTION:
URL:https://www.delectoralector.com/evento/laura-fernandez-presenta-un-monstruo-en-el-lago/
LOCATION:Espacio Fundación Telefónica\, Fuencarral 3\, Madrid\, Madrid\, Spain
END:VEVENT
BEGIN:VEVENT
DTSTART;TZID=Europe/Madrid:20240710T190000
DTEND;TZID=Europe/Madrid:20240710T210000
DTSTAMP:20260419T205603
CREATED:20240709T232546Z
LAST-MODIFIED:20240709T232546Z
UID:46253-1720638000-1720645200@www.delectoralector.com
SUMMARY:Ángel Martín presenta Detrás del ruido - Madrid
DESCRIPTION:
URL:https://www.delectoralector.com/evento/angel-martin-presenta-detras-del-ruido-madrid/
LOCATION:Círculo de Bellas Artes\, Alcalá 42\, Madrid\, Madrid\, Spain
END:VEVENT
BEGIN:VEVENT
DTSTART;TZID=Europe/Madrid:20240710T193000
DTEND;TZID=Europe/Madrid:20240710T203000
DTSTAMP:20260419T205603
CREATED:20240703T205322Z
LAST-MODIFIED:20240703T205322Z
UID:46141-1720639800-1720643400@www.delectoralector.com
SUMMARY:Patricia Espejo & Silvia Llop presentan Bendita terapia - Madrid
DESCRIPTION:
URL:https://www.delectoralector.com/evento/patricia-espejo-silvia-llop-presentan-bendita-terapia-madrid/
LOCATION:Ámbito Cultural de El Corte Inglés – Madrid\, Plaza del Callao 2\, Madrid\, Madrid
END:VEVENT
BEGIN:VEVENT
DTSTART;TZID=Europe/Madrid:20240711T183000
DTEND;TZID=Europe/Madrid:20240711T200000
DTSTAMP:20260419T205603
CREATED:20240704T230237Z
LAST-MODIFIED:20240704T230237Z
UID:46166-1720722600-1720728000@www.delectoralector.com
SUMMARY:Colm Tóibín presenta Long Island - Barcelona
DESCRIPTION:
URL:https://www.delectoralector.com/evento/colm-toibin-presenta-long-island-barcelona/
LOCATION:CCCB\, Montalegre 5\, Barcelona
END:VEVENT
BEGIN:VEVENT
DTSTART;TZID=Europe/Madrid:20240712T190000
DTEND;TZID=Europe/Madrid:20240712T210000
DTSTAMP:20260419T205603
CREATED:20240705T175024Z
LAST-MODIFIED:20240705T175024Z
UID:46174-1720810800-1720818000@www.delectoralector.com
SUMMARY:Cassandra Clare presenta El guardián de espadas
DESCRIPTION:
URL:https://www.delectoralector.com/evento/cassandra-clare-presenta-el-guardian-de-espadas/
LOCATION:Espacio Fundación Telefónica\, Fuencarral 3\, Madrid\, Madrid\, Spain
END:VEVENT
BEGIN:VEVENT
DTSTART;TZID=Europe/Madrid:20240713T000000
DTEND;TZID=Europe/Madrid:20240713T000000
DTSTAMP:20260419T205603
CREATED:20240407T120329Z
LAST-MODIFIED:20240407T120329Z
UID:42589-1720828800-1720828800@www.delectoralector.com
SUMMARY:Blue Jeans firma Una influencer muerta en París - Fuengirola
DESCRIPTION:
URL:https://www.delectoralector.com/evento/blue-jeans-firma-una-influencer-muerta-en-paris-fuengirola/
LOCATION:Granada
END:VEVENT
BEGIN:VEVENT
DTSTART;TZID=Europe/Madrid:20240830T200000
DTEND;TZID=Europe/Madrid:20240830T210000
DTSTAMP:20260419T205603
CREATED:20240829T230444Z
LAST-MODIFIED:20240829T230444Z
UID:46735-1725048000-1725051600@www.delectoralector.com
SUMMARY:Luis Zueco presenta El mapa de un mundo nuevo - Borja
DESCRIPTION:
URL:https://www.delectoralector.com/evento/luis-zueco-presenta-el-mapa-de-un-mundo-nuevo-borja/
LOCATION:Centro de Estudios Borjanos\, Pl. Aguilar\, 3\, Borja\, Zaragoza\, España
END:VEVENT
BEGIN:VEVENT
DTSTART;TZID=Europe/Madrid:20240903T190000
DTEND;TZID=Europe/Madrid:20240903T210000
DTSTAMP:20260419T205603
CREATED:20240829T230054Z
LAST-MODIFIED:20240829T230054Z
UID:46733-1725390000-1725397200@www.delectoralector.com
SUMMARY:Víctor del Árbol presenta El tiempo de las fieras - Madrid
DESCRIPTION:
URL:https://www.delectoralector.com/evento/victor-del-arbol-presenta-el-tiempo-de-las-fieras-madrid/
LOCATION:Librería La Mistral\, Tr.ª del Arenal\, 2\, Madrid\, Madrid\, Spain
END:VEVENT
BEGIN:VEVENT
DTSTART;TZID=Europe/Madrid:20240905T190000
DTEND;TZID=Europe/Madrid:20240905T203000
DTSTAMP:20260419T205603
CREATED:20240827T225739Z
LAST-MODIFIED:20240827T225739Z
UID:46712-1725562800-1725568200@www.delectoralector.com
SUMMARY:Hwang Bo-Reum presenta Bienvenidos a la librería Hyunam-Dong - Madrid
DESCRIPTION:
URL:https://www.delectoralector.com/evento/hwang-bo-reum-presenta-bienvenidos-a-la-libreria-hyunam-dong-madrid/
LOCATION:Librería La Mistral\, Tr.ª del Arenal\, 2\, Madrid\, Madrid\, Spain
END:VEVENT
BEGIN:VEVENT
DTSTART;TZID=Europe/Madrid:20240905T190000
DTEND;TZID=Europe/Madrid:20240905T210000
DTSTAMP:20260419T205603
CREATED:20240831T102221Z
LAST-MODIFIED:20240831T102221Z
UID:46754-1725562800-1725570000@www.delectoralector.com
SUMMARY:José Luis Sastre presenta Las frases robadas - Madrid
DESCRIPTION:
URL:https://www.delectoralector.com/evento/jose-luis-sastre-presenta-las-frases-robadas-madrid/
LOCATION:Espacio Fundación Telefónica\, Fuencarral 3\, Madrid\, Madrid\, Spain
END:VEVENT
BEGIN:VEVENT
DTSTART;TZID=Europe/Madrid:20240912T190000
DTEND;TZID=Europe/Madrid:20240912T213000
DTSTAMP:20260419T205603
CREATED:20240831T103211Z
LAST-MODIFIED:20240831T103211Z
UID:46757-1726167600-1726176600@www.delectoralector.com
SUMMARY:Laia Aguilar presenta Todos aquellos mares - Barcelona
DESCRIPTION:
URL:https://www.delectoralector.com/evento/laia-aguilar-presenta-todos-aquellos-mares-barcelona/
LOCATION:Ona libres\, Pau Claris\, 94\, Barcelona\, Barcelona\, España
END:VEVENT
BEGIN:VEVENT
DTSTART;TZID=Europe/Madrid:20240913T190000
DTEND;TZID=Europe/Madrid:20240913T210000
DTSTAMP:20260419T205603
CREATED:20240821T190908Z
LAST-MODIFIED:20240821T190908Z
UID:46660-1726254000-1726261200@www.delectoralector.com
SUMMARY:Jorge Cienfuegos presenta Logan Reyes ya no es un capullo - Madrid
DESCRIPTION:
URL:https://www.delectoralector.com/evento/jorge-cienfuegos-presenta-logan-reyes-ya-no-es-un-capullo-madrid/
LOCATION:Casa del libro Fuencarral\, Fuencarral 119\, Madrid\, Madrid\, España
END:VEVENT
BEGIN:VEVENT
DTSTART;TZID=Europe/Madrid:20240918T183000
DTEND;TZID=Europe/Madrid:20240918T200000
DTSTAMP:20260419T205603
CREATED:20240907T220650Z
LAST-MODIFIED:20240907T220650Z
UID:46831-1726684200-1726689600@www.delectoralector.com
SUMMARY:Kevin R. Wittmann presenta La huella de los mapas
DESCRIPTION:
URL:https://www.delectoralector.com/evento/kevin-r-wittmann-presenta-la-huella-de-los-mapas/
LOCATION:Llibreria Altaïr\, Gran Via de les Corts Catalanes 616\, Barcelona\, España
END:VEVENT
BEGIN:VEVENT
DTSTART;TZID=Europe/Madrid:20240918T190000
DTEND;TZID=Europe/Madrid:20240918T200000
DTSTAMP:20260419T205603
CREATED:20240911T231017Z
LAST-MODIFIED:20240911T231017Z
UID:46907-1726686000-1726689600@www.delectoralector.com
SUMMARY:Ignacio Rabadán presenta Y si mañana no estoy - Zaragoza
DESCRIPTION:
URL:https://www.delectoralector.com/evento/ignacio-rabadan-presenta-y-si-manana-no-estoy-zaragoza/
LOCATION:Fundación Ibercaja (Patio de la Infanta)\, San Ignacio de Loyola\, 16\, Zaragoza
END:VEVENT
BEGIN:VEVENT
DTSTART;TZID=Europe/Madrid:20240918T190000
DTEND;TZID=Europe/Madrid:20240918T200000
DTSTAMP:20260419T205603
CREATED:20240915T212714Z
LAST-MODIFIED:20240915T212745Z
UID:46978-1726686000-1726689600@www.delectoralector.com
SUMMARY:Natalia Litvinova presenta Luciérnaga - Madrid
DESCRIPTION:
URL:https://www.delectoralector.com/evento/natalia-litvinova-presenta-luciernaga-madrid/
LOCATION:Espacio Fundación Telefónica\, Fuencarral 3\, Madrid\, Madrid\, Spain
END:VEVENT
END:VCALENDAR