BEGIN:VCALENDAR
VERSION:2.0
PRODID:-//De lector a lector - ECPv6.15.15//NONSGML v1.0//EN
CALSCALE:GREGORIAN
METHOD:PUBLISH
X-WR-CALNAME:De lector a lector
X-ORIGINAL-URL:https://www.delectoralector.com
X-WR-CALDESC:Eventos para De lector a lector
REFRESH-INTERVAL;VALUE=DURATION:PT1H
X-Robots-Tag:noindex
X-PUBLISHED-TTL:PT1H
BEGIN:VTIMEZONE
TZID:Europe/Madrid
BEGIN:DAYLIGHT
TZOFFSETFROM:+0100
TZOFFSETTO:+0200
TZNAME:CEST
DTSTART:20230326T010000
END:DAYLIGHT
BEGIN:STANDARD
TZOFFSETFROM:+0200
TZOFFSETTO:+0100
TZNAME:CET
DTSTART:20231029T010000
END:STANDARD
BEGIN:DAYLIGHT
TZOFFSETFROM:+0100
TZOFFSETTO:+0200
TZNAME:CEST
DTSTART:20240331T010000
END:DAYLIGHT
BEGIN:STANDARD
TZOFFSETFROM:+0200
TZOFFSETTO:+0100
TZNAME:CET
DTSTART:20241027T010000
END:STANDARD
BEGIN:DAYLIGHT
TZOFFSETFROM:+0100
TZOFFSETTO:+0200
TZNAME:CEST
DTSTART:20250330T010000
END:DAYLIGHT
BEGIN:STANDARD
TZOFFSETFROM:+0200
TZOFFSETTO:+0100
TZNAME:CET
DTSTART:20251026T010000
END:STANDARD
END:VTIMEZONE
BEGIN:VEVENT
DTSTART;TZID=Europe/Madrid:20240521T190000
DTEND;TZID=Europe/Madrid:20240521T210000
DTSTAMP:20260419T172436
CREATED:20240514T143123Z
LAST-MODIFIED:20240514T143123Z
UID:44459-1716318000-1716325200@www.delectoralector.com
SUMMARY:Eva Baltasar presenta Ocaso y fascinación
DESCRIPTION:
URL:https://www.delectoralector.com/evento/eva-baltasar-presenta-ocaso-y-fascinacion/
LOCATION:Espacio Fundación Telefónica\, Fuencarral 3\, Madrid\, Madrid\, Spain
END:VEVENT
BEGIN:VEVENT
DTSTART;TZID=Europe/Madrid:20240522T120000
DTEND;TZID=Europe/Madrid:20240522T140000
DTSTAMP:20260419T172436
CREATED:20240512T155610Z
LAST-MODIFIED:20240512T155610Z
UID:44354-1716379200-1716386400@www.delectoralector.com
SUMMARY:Manuel Marlasca presenta Tú bailas yo disparo - Ávila
DESCRIPTION:
URL:https://www.delectoralector.com/evento/manuel-marlasca-presenta-tu-bailas-yo-disparo-avila/
LOCATION:Libería Letras\, Paseo San Roque 4\, Ávila
END:VEVENT
BEGIN:VEVENT
DTSTART;TZID=Europe/Madrid:20240522T190000
DTEND;TZID=Europe/Madrid:20240522T210000
DTSTAMP:20260419T172436
CREATED:20240513T125616Z
LAST-MODIFIED:20240513T125616Z
UID:44425-1716404400-1716411600@www.delectoralector.com
SUMMARY:Clara Usón presenta Las fieras - Madrid
DESCRIPTION:
URL:https://www.delectoralector.com/evento/clara-uson-presenta-las-fieras-madrid/
LOCATION:Librería Alberti
END:VEVENT
BEGIN:VEVENT
DTSTART;TZID=Europe/Madrid:20240522T190000
DTEND;TZID=Europe/Madrid:20240522T210000
DTSTAMP:20260419T172436
CREATED:20240514T153122Z
LAST-MODIFIED:20240514T153122Z
UID:44497-1716404400-1716411600@www.delectoralector.com
SUMMARY:Guillermo Roz presenta Sapukái - Madrid
DESCRIPTION:
URL:https://www.delectoralector.com/evento/guillermo-roz-presenta-sapukai-madrid/
LOCATION:Club Parque Conde de Orgaz\, Avenida Madroños 38\, Madrid
END:VEVENT
BEGIN:VEVENT
DTSTART;TZID=Europe/Madrid:20240522T190000
DTEND;TZID=Europe/Madrid:20240522T210000
DTSTAMP:20260419T172436
CREATED:20240515T153736Z
LAST-MODIFIED:20240515T153736Z
UID:44585-1716404400-1716411600@www.delectoralector.com
SUMMARY:África Alonso presenta Una luz tímida - Valencia
DESCRIPTION:
URL:https://www.delectoralector.com/evento/africa-alonso-presenta-una-luz-timida-valencia/
LOCATION:Librería El imperio\, Calle Sueca\, 29\, Valencia
END:VEVENT
BEGIN:VEVENT
DTSTART;TZID=Europe/Madrid:20240522T193000
DTEND;TZID=Europe/Madrid:20240522T210000
DTSTAMP:20260419T172436
CREATED:20240520T185856Z
LAST-MODIFIED:20240520T185856Z
UID:44871-1716406200-1716411600@www.delectoralector.com
SUMMARY:Víctor Abad presenta Fórmula 1 - Madrid
DESCRIPTION:
URL:https://www.delectoralector.com/evento/victor-abad-presenta-formula-1-madrid/
LOCATION:Casa del libro – Gran Vía\, Gran Vía 29\, Madrid\, Madrid\, Spain
END:VEVENT
BEGIN:VEVENT
DTSTART;TZID=Europe/Madrid:20240523T000000
DTEND;TZID=Europe/Madrid:20240523T000000
DTSTAMP:20260419T172436
CREATED:20240426T204308Z
LAST-MODIFIED:20240426T204308Z
UID:43321-1716422400-1716422400@www.delectoralector.com
SUMMARY:Javier Castillo gira La grieta del silencio - Granada
DESCRIPTION:
URL:https://www.delectoralector.com/evento/javier-castillo-gira-la-grieta-del-silencio-granada/
LOCATION:Granada
END:VEVENT
BEGIN:VEVENT
DTSTART;TZID=Europe/Madrid:20240523T190000
DTEND;TZID=Europe/Madrid:20240523T210000
DTSTAMP:20260419T172436
CREATED:20240514T151454Z
LAST-MODIFIED:20240514T151454Z
UID:44488-1716490800-1716498000@www.delectoralector.com
SUMMARY:Santiago Díaz presenta Los nueve reinos - Madrid
DESCRIPTION:
URL:https://www.delectoralector.com/evento/santiago-diaz-presenta-los-nueve-reinos-madrid/
LOCATION:FNAC Callao\, Preciados 28\, Madrid\, Madrid\, Spain
END:VEVENT
BEGIN:VEVENT
DTSTART;TZID=Europe/Madrid:20240523T190000
DTEND;TZID=Europe/Madrid:20240523T210000
DTSTAMP:20260419T172436
CREATED:20240514T152807Z
LAST-MODIFIED:20240514T152807Z
UID:44495-1716490800-1716498000@www.delectoralector.com
SUMMARY:Emma Nogueiro presenta Querido Nano - Madrid
DESCRIPTION:
URL:https://www.delectoralector.com/evento/emma-nogueiro-presenta-querido-nano-madrid/
LOCATION:Libreria Troa Nebli\, Serrano 80\, Madrid\, Madrid\, Spain
END:VEVENT
BEGIN:VEVENT
DTSTART;TZID=Europe/Madrid:20240523T190000
DTEND;TZID=Europe/Madrid:20240523T210000
DTSTAMP:20260419T172436
CREATED:20240516T085029Z
LAST-MODIFIED:20240516T085029Z
UID:44632-1716490800-1716498000@www.delectoralector.com
SUMMARY:Jose Gil y Goretti Irisarri presentan El Camino Olvidado - Madrid
DESCRIPTION:
URL:https://www.delectoralector.com/evento/jose-gil-y-goretti-irisarri-presentan-el-camino-olvidado-madrid/
LOCATION:Casa del libro – Gran Vía\, Gran Vía 29\, Madrid\, Madrid\, Spain
END:VEVENT
BEGIN:VEVENT
DTSTART;TZID=Europe/Madrid:20240523T190000
DTEND;TZID=Europe/Madrid:20240523T210000
DTSTAMP:20260419T172436
CREATED:20240516T153804Z
LAST-MODIFIED:20240516T153804Z
UID:44652-1716490800-1716498000@www.delectoralector.com
SUMMARY:Clara Usón presenta Las fieras - Barcelona
DESCRIPTION:
URL:https://www.delectoralector.com/evento/clara-uson-presenta-las-fieras-barcelona/
LOCATION:Librería Finestres\, C/ de la Diputació\, 249\, Barcelona\, Barcelona\, Spain
END:VEVENT
BEGIN:VEVENT
DTSTART;TZID=Europe/Madrid:20240523T200000
DTEND;TZID=Europe/Madrid:20240523T220000
DTSTAMP:20260419T172436
CREATED:20240503T160652Z
LAST-MODIFIED:20240503T160652Z
UID:43868-1716494400-1716501600@www.delectoralector.com
SUMMARY:Claudio Cerdán presenta El hombre sin rostro - Yecla
DESCRIPTION:
URL:https://www.delectoralector.com/evento/claudio-cerdan-presenta-el-hombre-sin-rostro-yecla/
LOCATION:Edificio Bioclimático\, Abad José Solá\, s/n\, Yecla\, Murcia
END:VEVENT
BEGIN:VEVENT
DTSTART;TZID=Europe/Madrid:20240524T000000
DTEND;TZID=Europe/Madrid:20240524T000000
DTSTAMP:20260419T172436
CREATED:20240407T115946Z
LAST-MODIFIED:20240407T120502Z
UID:42581-1716508800-1716508800@www.delectoralector.com
SUMMARY:Blue Jeans firma Una influencer muerta en París - Bilbao
DESCRIPTION:
URL:https://www.delectoralector.com/evento/blue-jeans-presenta-una-influencer-muerta-en-paris-bilbao/
LOCATION:Granada
END:VEVENT
BEGIN:VEVENT
DTSTART;TZID=Europe/Madrid:20240524T180000
DTEND;TZID=Europe/Madrid:20240524T200000
DTSTAMP:20260419T172436
CREATED:20240514T145700Z
LAST-MODIFIED:20240514T145700Z
UID:44467-1716573600-1716580800@www.delectoralector.com
SUMMARY:Santiago Diaz firma Los nueve reinos
DESCRIPTION:
URL:https://www.delectoralector.com/evento/santiago-diaz-firma-los-nueve-reinos/
LOCATION:Mendo\, Bulevar Peña Gorbea\, Madrid
END:VEVENT
BEGIN:VEVENT
DTSTART;TZID=Europe/Madrid:20240525T000000
DTEND;TZID=Europe/Madrid:20240525T000000
DTSTAMP:20260419T172436
CREATED:20240407T120020Z
LAST-MODIFIED:20240407T120433Z
UID:42583-1716595200-1716595200@www.delectoralector.com
SUMMARY:Blue Jeans firma Una influencer muerta en París - Torrelavega
DESCRIPTION:
URL:https://www.delectoralector.com/evento/blue-jeans-presenta-una-influencer-muerta-en-paris-torrelavega/
LOCATION:Granada
END:VEVENT
BEGIN:VEVENT
DTSTART;TZID=Europe/Madrid:20240525T193000
DTEND;TZID=Europe/Madrid:20240525T213000
DTSTAMP:20260419T172436
CREATED:20240514T142911Z
LAST-MODIFIED:20240514T142911Z
UID:44456-1716665400-1716672600@www.delectoralector.com
SUMMARY:Jesús Fernández Vallejo presenta La calle sin sol - Ciudad Real
DESCRIPTION:
URL:https://www.delectoralector.com/evento/jesus-fernandez-vallejo-presenta-la-calle-sin-sol-ciudad-real/
LOCATION:Museo López Villaseñor\, Calle Reyes 11\, Ciudad Real
END:VEVENT
BEGIN:VEVENT
DTSTART;TZID=Europe/Madrid:20240527T193000
DTEND;TZID=Europe/Madrid:20240527T213000
DTSTAMP:20260419T172436
CREATED:20240510T103400Z
LAST-MODIFIED:20240510T103400Z
UID:44191-1716838200-1716845400@www.delectoralector.com
SUMMARY:Lorenzo Silva y Noemi Trujillo presentan La innombrable - Madrid
DESCRIPTION:
URL:https://www.delectoralector.com/evento/lorenzo-silva-y-noemi-trujillo-presentan-la-innombrable-madrid/
LOCATION:Casa del libro Gran Vía\, Gran Vía 29\, Madrid\, Madrid\, Spain
END:VEVENT
BEGIN:VEVENT
DTSTART;TZID=Europe/Madrid:20240528T180000
DTEND;TZID=Europe/Madrid:20240528T200000
DTSTAMP:20260419T172436
CREATED:20240524T222439Z
LAST-MODIFIED:20240524T222439Z
UID:45090-1716919200-1716926400@www.delectoralector.com
SUMMARY:Clara González Freyre (@claramore_) presenta Un Van Gogh en el salón - Barcelona
DESCRIPTION:
URL:https://www.delectoralector.com/evento/clara-gonzalez-freyre-claramore_-presenta-un-van-gogh-en-el-salon-barcelona/
LOCATION:Museo Bansky\, C/ de Trafalgar\, 34\, Barcelona
END:VEVENT
BEGIN:VEVENT
DTSTART;TZID=Europe/Madrid:20240528T193000
DTEND;TZID=Europe/Madrid:20240528T210000
DTSTAMP:20260419T172436
CREATED:20240527T203055Z
LAST-MODIFIED:20240527T203055Z
UID:45284-1716924600-1716930000@www.delectoralector.com
SUMMARY:Inma Aguilera presenta La dama de la Cartuja - Sevilla
DESCRIPTION:
URL:https://www.delectoralector.com/evento/inma-aguilera-presenta-la-dama-de-la-cartuja-sevilla/
LOCATION:Librería La Botica de Lectores\, Avda. República Argentina\, 15\, Sevilla\, Sevilla\, España
END:VEVENT
BEGIN:VEVENT
DTSTART;TZID=Europe/Madrid:20240529T170000
DTEND;TZID=Europe/Madrid:20240529T190000
DTSTAMP:20260419T172436
CREATED:20240527T154343Z
LAST-MODIFIED:20240527T154343Z
UID:45257-1717002000-1717009200@www.delectoralector.com
SUMMARY:Angélica Morales presenta La casa de los hilos rotos - Zaragoza
DESCRIPTION:
URL:https://www.delectoralector.com/evento/angelica-morales-presenta-la-casa-de-los-hilos-rotos-zaragoza-2/
LOCATION:Centro de Adultos Gómez de la Fuente\, Calle de las Armas 22-26\, Zaragoza
END:VEVENT
BEGIN:VEVENT
DTSTART;TZID=Europe/Madrid:20240529T190000
DTEND;TZID=Europe/Madrid:20240529T200000
DTSTAMP:20260419T172436
CREATED:20240520T204958Z
LAST-MODIFIED:20240520T204958Z
UID:44882-1717009200-1717012800@www.delectoralector.com
SUMMARY:Lorenzo Silva y Noemí Trujillo presentan La innombrable - Bilbao
DESCRIPTION:
URL:https://www.delectoralector.com/evento/lorenzo-silva-y-noemi-trujillo-presentan-la-innombrable-bilbao/
LOCATION:Biblioteca de Bidabarrieta\, Bidabarrieta Kalea 4\, Bilbao\, Vizcaya\, Spain
END:VEVENT
BEGIN:VEVENT
DTSTART;TZID=Europe/Madrid:20240530T000000
DTEND;TZID=Europe/Madrid:20240530T000000
DTSTAMP:20260419T172436
CREATED:20240526T114756Z
LAST-MODIFIED:20240526T114756Z
UID:45169-1717027200-1717027200@www.delectoralector.com
SUMMARY:Benito Olmo presenta Tinta y fuego - Cádiz
DESCRIPTION:
URL:https://www.delectoralector.com/evento/benito-olmo-presenta-tinta-y-fuego-cadiz-2/
LOCATION:Granada
END:VEVENT
BEGIN:VEVENT
DTSTART;TZID=Europe/Madrid:20240530T190000
DTEND;TZID=Europe/Madrid:20240530T203000
DTSTAMP:20260419T172436
CREATED:20240503T160822Z
LAST-MODIFIED:20240503T160822Z
UID:43871-1717095600-1717101000@www.delectoralector.com
SUMMARY:Claudio Cerdán presenta El hombre sin rostro - Murcia
DESCRIPTION:
URL:https://www.delectoralector.com/evento/claudio-cerdan-presenta-el-hombre-sin-rostro-murcia/
LOCATION:Casa del libro – Murcia\, C. Jaime I el Conquistador\, 9\, Murcia
END:VEVENT
BEGIN:VEVENT
DTSTART;TZID=Europe/Madrid:20240530T190000
DTEND;TZID=Europe/Madrid:20240530T210000
DTSTAMP:20260419T172436
CREATED:20240514T164148Z
LAST-MODIFIED:20240514T164148Z
UID:44506-1717095600-1717102800@www.delectoralector.com
SUMMARY:Enrique Criado Navamuel presenta El balcón del Führer - Madrid
DESCRIPTION:
URL:https://www.delectoralector.com/evento/enrique-criado-navamuel-presenta-el-balcon-del-fuhrer-madrid/
LOCATION:Club Argo\, Plaza de Santa Ana 7
END:VEVENT
BEGIN:VEVENT
DTSTART;TZID=Europe/Madrid:20240530T190000
DTEND;TZID=Europe/Madrid:20240530T210000
DTSTAMP:20260419T172436
CREATED:20240515T154122Z
LAST-MODIFIED:20240515T154849Z
UID:44587-1717095600-1717102800@www.delectoralector.com
SUMMARY:Marta García Aller presenta Años de perro - Madrid
DESCRIPTION:
URL:https://www.delectoralector.com/evento/marta-garcia-aller-presenta-anos-de-perro-madrid/
LOCATION:Espacio Larra\, Calle Larra 14\, Madrid
END:VEVENT
BEGIN:VEVENT
DTSTART;TZID=Europe/Madrid:20240530T190000
DTEND;TZID=Europe/Madrid:20240530T210000
DTSTAMP:20260419T172436
CREATED:20240527T162356Z
LAST-MODIFIED:20240527T162356Z
UID:45267-1717095600-1717102800@www.delectoralector.com
SUMMARY:Ramón Gener presenta Historia de un piano
DESCRIPTION:
URL:https://www.delectoralector.com/evento/ramon-gener-presenta-historia-de-un-piano-2/
LOCATION:FNAC Callao\, Preciados 28\, Madrid\, Madrid\, Spain
END:VEVENT
BEGIN:VEVENT
DTSTART;TZID=Europe/Madrid:20240530T193000
DTEND;TZID=Europe/Madrid:20240530T210000
DTSTAMP:20260419T172436
CREATED:20240520T190118Z
LAST-MODIFIED:20240520T190118Z
UID:44873-1717097400-1717102800@www.delectoralector.com
SUMMARY:Víctor Abad presenta Fórmula 1 - Valencia
DESCRIPTION:
URL:https://www.delectoralector.com/evento/victor-abad-presenta-formula-1-valencia/
LOCATION:Casa del libro – Valencia\, Paseo de Ruzafa 11\, Valencia
END:VEVENT
BEGIN:VEVENT
DTSTART;TZID=Europe/Madrid:20240530T193000
DTEND;TZID=Europe/Madrid:20240530T210000
DTSTAMP:20260419T172436
CREATED:20240527T203321Z
LAST-MODIFIED:20240527T203333Z
UID:45286-1717097400-1717102800@www.delectoralector.com
SUMMARY:Mikel Santiago presenta El hijo olvidado
DESCRIPTION:
URL:https://www.delectoralector.com/evento/mikel-santiago-presenta-el-hijo-olvidado/
LOCATION:Librería Santos Ochoa Logroño\, Calvo Sotelo 19\, Logroño\, Logroño
END:VEVENT
BEGIN:VEVENT
DTSTART;TZID=Europe/Madrid:20240530T193000
DTEND;TZID=Europe/Madrid:20240530T213000
DTSTAMP:20260419T172436
CREATED:20240527T154910Z
LAST-MODIFIED:20240527T154910Z
UID:45260-1717097400-1717104600@www.delectoralector.com
SUMMARY:Benito Olmo presenta Tinta y fuego - Cádiz
DESCRIPTION:
URL:https://www.delectoralector.com/evento/benito-olmo-presenta-tinta-y-fuego-cadiz-3/
LOCATION:Fundación Cajasol – Cádiz\, Plaza de San Antonio 14\, Cádiz
END:VEVENT
BEGIN:VEVENT
DTSTART;TZID=Europe/Madrid:20240530T200000
DTEND;TZID=Europe/Madrid:20240530T220000
DTSTAMP:20260419T172436
CREATED:20240503T161619Z
LAST-MODIFIED:20240503T161619Z
UID:43879-1717099200-1717106400@www.delectoralector.com
SUMMARY:César Pérez Gellida presenta Bajo tierra seca - Feria del libro de Ceuta
DESCRIPTION:
URL:https://www.delectoralector.com/evento/cesar-perez-gellida-presenta-bajo-tierra-seca-feria-del-libro-de-ceuta/
LOCATION:Granada
END:VEVENT
END:VCALENDAR