BEGIN:VCALENDAR
VERSION:2.0
PRODID:-//De lector a lector - ECPv6.15.15//NONSGML v1.0//EN
CALSCALE:GREGORIAN
METHOD:PUBLISH
X-WR-CALNAME:De lector a lector
X-ORIGINAL-URL:https://www.delectoralector.com
X-WR-CALDESC:Eventos para De lector a lector
REFRESH-INTERVAL;VALUE=DURATION:PT1H
X-Robots-Tag:noindex
X-PUBLISHED-TTL:PT1H
BEGIN:VTIMEZONE
TZID:Europe/Madrid
BEGIN:DAYLIGHT
TZOFFSETFROM:+0100
TZOFFSETTO:+0200
TZNAME:CEST
DTSTART:20230326T010000
END:DAYLIGHT
BEGIN:STANDARD
TZOFFSETFROM:+0200
TZOFFSETTO:+0100
TZNAME:CET
DTSTART:20231029T010000
END:STANDARD
BEGIN:DAYLIGHT
TZOFFSETFROM:+0100
TZOFFSETTO:+0200
TZNAME:CEST
DTSTART:20240331T010000
END:DAYLIGHT
BEGIN:STANDARD
TZOFFSETFROM:+0200
TZOFFSETTO:+0100
TZNAME:CET
DTSTART:20241027T010000
END:STANDARD
BEGIN:DAYLIGHT
TZOFFSETFROM:+0100
TZOFFSETTO:+0200
TZNAME:CEST
DTSTART:20250330T010000
END:DAYLIGHT
BEGIN:STANDARD
TZOFFSETFROM:+0200
TZOFFSETTO:+0100
TZNAME:CET
DTSTART:20251026T010000
END:STANDARD
END:VTIMEZONE
BEGIN:VEVENT
DTSTART;TZID=Europe/Madrid:20240620T183000
DTEND;TZID=Europe/Madrid:20240620T200000
DTSTAMP:20260419T172853
CREATED:20240617T210901Z
LAST-MODIFIED:20240617T210901Z
UID:45956-1718908200-1718913600@www.delectoralector.com
SUMMARY:Belén Montalvo presenta (Des)hacer las Américas. Una crónica real desde Estados Unidos - Madrid
DESCRIPTION:
URL:https://www.delectoralector.com/evento/belen-montalvo-presenta-deshacer-las-americas-una-cronica-real-desde-estados-unidos-madrid/
LOCATION:Librería Gaztambide\, Meléndez Valdés 52\, Madrid
END:VEVENT
BEGIN:VEVENT
DTSTART;TZID=Europe/Madrid:20240620T190000
DTEND;TZID=Europe/Madrid:20240620T210000
DTSTAMP:20260419T172853
CREATED:20240617T201738Z
LAST-MODIFIED:20240617T201738Z
UID:45941-1718910000-1718917200@www.delectoralector.com
SUMMARY:Emilio Calderón presenta Aroma de guerra y café
DESCRIPTION:
URL:https://www.delectoralector.com/evento/emilio-calderon-presenta-aroma-de-guerra-y-cafe/
LOCATION:Librería Antonio Machado\, Marqués de Casarriera 2\, Madrid
END:VEVENT
BEGIN:VEVENT
DTSTART;TZID=Europe/Madrid:20240620T193000
DTEND;TZID=Europe/Madrid:20240620T210000
DTSTAMP:20260419T172853
CREATED:20240617T104246Z
LAST-MODIFIED:20240617T104246Z
UID:45938-1718911800-1718917200@www.delectoralector.com
SUMMARY:Juan Manuel Gil presenta Un hombre bajo el agua - Granada
DESCRIPTION:
URL:https://www.delectoralector.com/evento/juan-manuel-gil-presenta-un-hombre-bajo-el-agua-granada/
LOCATION:Librería Picasso\, Obispo Hurtado 5\, Granada\, Granada
END:VEVENT
BEGIN:VEVENT
DTSTART;TZID=Europe/Madrid:20240620T193000
DTEND;TZID=Europe/Madrid:20240620T213000
DTSTAMP:20260419T172853
CREATED:20240617T201931Z
LAST-MODIFIED:20240617T201931Z
UID:45943-1718911800-1718919000@www.delectoralector.com
SUMMARY:Carmen Macedo presenta La noche que sonaron las campanas - Sevilla
DESCRIPTION:
URL:https://www.delectoralector.com/evento/carmen-macedo-presenta-la-noche-que-sonaron-las-campanas-sevilla/
LOCATION:Librería Botica de Lectores\, Avda. República Argentina\, 15\, Sevilla\, Sevilla
END:VEVENT
END:VCALENDAR