BEGIN:VCALENDAR
VERSION:2.0
PRODID:-//De lector a lector - ECPv6.15.15//NONSGML v1.0//EN
CALSCALE:GREGORIAN
METHOD:PUBLISH
X-WR-CALNAME:De lector a lector
X-ORIGINAL-URL:https://www.delectoralector.com
X-WR-CALDESC:Eventos para De lector a lector
REFRESH-INTERVAL;VALUE=DURATION:PT1H
X-Robots-Tag:noindex
X-PUBLISHED-TTL:PT1H
BEGIN:VTIMEZONE
TZID:Europe/Madrid
BEGIN:DAYLIGHT
TZOFFSETFROM:+0100
TZOFFSETTO:+0200
TZNAME:CEST
DTSTART:20230326T010000
END:DAYLIGHT
BEGIN:STANDARD
TZOFFSETFROM:+0200
TZOFFSETTO:+0100
TZNAME:CET
DTSTART:20231029T010000
END:STANDARD
BEGIN:DAYLIGHT
TZOFFSETFROM:+0100
TZOFFSETTO:+0200
TZNAME:CEST
DTSTART:20240331T010000
END:DAYLIGHT
BEGIN:STANDARD
TZOFFSETFROM:+0200
TZOFFSETTO:+0100
TZNAME:CET
DTSTART:20241027T010000
END:STANDARD
BEGIN:DAYLIGHT
TZOFFSETFROM:+0100
TZOFFSETTO:+0200
TZNAME:CEST
DTSTART:20250330T010000
END:DAYLIGHT
BEGIN:STANDARD
TZOFFSETFROM:+0200
TZOFFSETTO:+0100
TZNAME:CET
DTSTART:20251026T010000
END:STANDARD
END:VTIMEZONE
BEGIN:VEVENT
DTSTART;TZID=Europe/Madrid:20240611T190000
DTEND;TZID=Europe/Madrid:20240611T210000
DTSTAMP:20260419T172909
CREATED:20240606T215137Z
LAST-MODIFIED:20240606T215137Z
UID:45712-1718132400-1718139600@www.delectoralector.com
SUMMARY:Alex Michaelides presenta La furia
DESCRIPTION:
URL:https://www.delectoralector.com/evento/alex-michaelides-presenta-la-furia/
LOCATION:La Central del Raval\, Carrer d'Elisabets 6\, Barcelona
END:VEVENT
BEGIN:VEVENT
DTSTART;TZID=Europe/Madrid:20240611T190000
DTEND;TZID=Europe/Madrid:20240611T210000
DTSTAMP:20260419T172909
CREATED:20240611T203924Z
LAST-MODIFIED:20240611T203924Z
UID:45812-1718132400-1718139600@www.delectoralector.com
SUMMARY:Santiago Díaz presenta Nueve Reinos - El Sauzal
DESCRIPTION:
URL:https://www.delectoralector.com/evento/santiago-diaz-presenta-nueve-reinos-el-sauzal/
LOCATION:Centro Cultural El Sauzal\, Manuel Nepomuceno 12\, El Sauzal\, Tenerife
END:VEVENT
END:VCALENDAR