BEGIN:VCALENDAR
VERSION:2.0
PRODID:-//De lector a lector - ECPv6.15.15//NONSGML v1.0//EN
CALSCALE:GREGORIAN
METHOD:PUBLISH
X-ORIGINAL-URL:https://www.delectoralector.com
X-WR-CALDESC:Eventos para De lector a lector
REFRESH-INTERVAL;VALUE=DURATION:PT1H
X-Robots-Tag:noindex
X-PUBLISHED-TTL:PT1H
BEGIN:VTIMEZONE
TZID:Europe/Madrid
BEGIN:DAYLIGHT
TZOFFSETFROM:+0100
TZOFFSETTO:+0200
TZNAME:CEST
DTSTART:20230326T010000
END:DAYLIGHT
BEGIN:STANDARD
TZOFFSETFROM:+0200
TZOFFSETTO:+0100
TZNAME:CET
DTSTART:20231029T010000
END:STANDARD
BEGIN:DAYLIGHT
TZOFFSETFROM:+0100
TZOFFSETTO:+0200
TZNAME:CEST
DTSTART:20240331T010000
END:DAYLIGHT
BEGIN:STANDARD
TZOFFSETFROM:+0200
TZOFFSETTO:+0100
TZNAME:CET
DTSTART:20241027T010000
END:STANDARD
BEGIN:DAYLIGHT
TZOFFSETFROM:+0100
TZOFFSETTO:+0200
TZNAME:CEST
DTSTART:20250330T010000
END:DAYLIGHT
BEGIN:STANDARD
TZOFFSETFROM:+0200
TZOFFSETTO:+0100
TZNAME:CET
DTSTART:20251026T010000
END:STANDARD
END:VTIMEZONE
BEGIN:VEVENT
DTSTART;TZID=Europe/Madrid:20240606T190000
DTEND;TZID=Europe/Madrid:20240606T203000
DTSTAMP:20260419T173133
CREATED:20240530T154452Z
LAST-MODIFIED:20240530T154452Z
UID:45457-1717700400-1717705800@www.delectoralector.com
SUMMARY:Juan Manuel Gil presenta Un hombre bajo el agua - Almería
DESCRIPTION:
URL:https://www.delectoralector.com/evento/juan-manuel-gil-presenta-un-hombre-bajo-el-agua-almeria/
LOCATION:Librería Picasso – Almería\, Reyes Católicos 18\, Almería
END:VEVENT
BEGIN:VEVENT
DTSTART;TZID=Europe/Madrid:20240606T190000
DTEND;TZID=Europe/Madrid:20240606T210000
DTSTAMP:20260419T173133
CREATED:20240527T155027Z
LAST-MODIFIED:20240527T155027Z
UID:45263-1717700400-1717707600@www.delectoralector.com
SUMMARY:Manuel Marlasca presenta Tú bailas y yo disparo - Sevilla
DESCRIPTION:
URL:https://www.delectoralector.com/evento/manuel-marlasca-presenta-tu-bailas-y-yo-disparo-sevilla/
LOCATION:Librería La Botica de Lectores\, Avda. República Argentina\, 15\, Sevilla\, Sevilla\, España
END:VEVENT
BEGIN:VEVENT
DTSTART;TZID=Europe/Madrid:20240606T190000
DTEND;TZID=Europe/Madrid:20240606T210000
DTSTAMP:20260419T173133
CREATED:20240602T215533Z
LAST-MODIFIED:20240602T215533Z
UID:45559-1717700400-1717707600@www.delectoralector.com
SUMMARY:Marta Pérez-Carbonell presenta Nada más ilusorio
DESCRIPTION:
URL:https://www.delectoralector.com/evento/marta-perez-carbonell-presenta-nada-mas-ilusorio/
LOCATION:Amapolas librería\, C. de Pelayo\, 60\, Madrid\, Madrid
END:VEVENT
BEGIN:VEVENT
DTSTART;TZID=Europe/Madrid:20240606T190000
DTEND;TZID=Europe/Madrid:20240606T210000
DTSTAMP:20260419T173133
CREATED:20240606T154911Z
LAST-MODIFIED:20240606T154911Z
UID:45671-1717700400-1717707600@www.delectoralector.com
SUMMARY:Arturo González-Campos presenta Cine con cosas - Barcelona
DESCRIPTION:
URL:https://www.delectoralector.com/evento/arturo-gonzalez-campos-presenta-cine-con-cosas-barcelona/
LOCATION:Librería Hispano Americana\, Gran Vía de les Corts Catalanes 594\, Barcelona
END:VEVENT
BEGIN:VEVENT
DTSTART;TZID=Europe/Madrid:20240606T190000
DTEND;TZID=Europe/Madrid:20240606T210000
DTSTAMP:20260419T173133
CREATED:20240606T162158Z
LAST-MODIFIED:20240606T162158Z
UID:45680-1717700400-1717707600@www.delectoralector.com
SUMMARY:Santiago Díaz presenta Los nueve reinos - Albacete
DESCRIPTION:
URL:https://www.delectoralector.com/evento/santiago-diaz-presenta-los-nueve-reinos-albacete/
LOCATION:Popular Libros\, Octavio Cuartero 17\, Albacete
END:VEVENT
END:VCALENDAR